BEGIN:VCALENDAR
PRODID:-//AT Content Types//AT Event//EN
VERSION:2.0
METHOD:PUBLISH
BEGIN:VEVENT
DTSTAMP:20260421T102654Z
CREATED:20171020T150706Z
UID:ATEvent-3d3574b70ca64b10a678c29fa2c78598
LAST-MODIFIED:20250125T191706Z
SUMMARY:Winter Salt Week: Promoting Sustainable Winter Maintenance and Protecting Freshwater Resources
DTSTART:20250124T170000Z
DTEND:20250131T200000Z
DESCRIPTION:This initiative is\ndedicated to raising awareness about t
 he environmental impacts of salt use during winter months and\npromoti
 ng strategies for reducing chloride pollution in our freshwater system
 s. The event includes a\nvariety of educational opportunities for comm
 unity members\, local leaders and environmental\nadvocates.
LOCATION:Olmsted County Government Center Rotunda\, 151 4th St SE\, Rochester (Enter through Door C)
CATEGORIES:sustainability, governance
CLASS:PUBLIC
END:VEVENT
END:VCALENDAR
