BEGIN:VCALENDAR
PRODID:-//AT Content Types//AT Event//EN
VERSION:2.0
METHOD:PUBLISH
BEGIN:VEVENT
DTSTAMP:20260423T003432Z
CREATED:20170208T183447Z
UID:ATEvent-19ab083592fa4c09b67ad1833bcb300f
LAST-MODIFIED:20220821T144619Z
SUMMARY:Pop up vaccine shots event at Rochester
DTSTART:20220822T150000Z
DTEND:20220822T190000Z
LOCATION:Relax Wellness Center
CATEGORIES:education, diversity, Diversity Council, adult
URL:https://www.facebook.com/events/593163892264212?acontext=%7B%22source%22%3A%2229%22%2C%22ref_notif_type%22%3A%22plan_user_invited%22%2C%22action_history%22%3A%22null%22%7D&notif_id=1661014418278923&notif_t=plan_user_invited&ref=notif
CLASS:PUBLIC
END:VEVENT
END:VCALENDAR
