BEGIN:VCALENDAR
PRODID:-//AT Content Types//AT Event//EN
VERSION:1.0
BEGIN:VEVENT
DTSTART:20250823T180000Z
DTEND:20250823T220000Z
DCREATED:20180914T231351Z
UID:ATEvent-0de30b263f9341e3be267ea8554b9467
SEQUENCE:0
LAST-MODIFIED:20250801T215233Z
SUMMARY:Oxbow Park: Celebrate New Public Art Installations with Artist Cassandra Buck
DESCRIPTION:– All are invited to attend a series of special events\n
 celebrating the completion of public art installations by MNPAiR (Minn
 esota Parks Artists in\nResidence) artist Cassandra Buck. Installed at
  three local parks — Oxbow Park & Zollman Zoo,\nQuarry Hill Nature C
 enter\, and Cascade Lake Park — these vibrant works highlight nature
 ,\ncommunity\, and connection to place.\n\nEach celebration will inclu
 de a short artist talk\, a hands-on public art activity for all
LOCATION:5731 County Road 105 NW in Byron
PRIORITY:3
TRANSP:0
END:VEVENT
END:VCALENDAR
