BEGIN:VCALENDAR
PRODID:-//AT Content Types//AT Event//EN
VERSION:2.0
METHOD:PUBLISH
BEGIN:VEVENT
DTSTAMP:20260421T102947Z
CREATED:20240712T154000Z
UID:ATEvent-8346315853394d3893e6c011d6ba12a8
LAST-MODIFIED:20240712T154343Z
SUMMARY:LWV-R Candidate Forum Olmsted County Commissioner District 3
DTSTART:20240730T233000Z
DTEND:20240731T004500Z
LOCATION:Roch Pub Library Aud\, doors open at 6 pm
CATEGORIES:time-sensitive
URL:https://www.lwvrochester.org/
CLASS:PUBLIC
END:VEVENT
END:VCALENDAR
