BEGIN:VCALENDAR
PRODID:-//AT Content Types//AT Event//EN
VERSION:1.0
BEGIN:VEVENT
DTSTART:20240905T163000Z
DTEND:20240905T183000Z
DCREATED:20170815T021238Z
UID:ATEvent-d55031f7b93546e286412e4da70f7209
SEQUENCE:0
LAST-MODIFIED:20260321T162604Z
SUMMARY:MPR Regional Advisory Council
DESCRIPTION:Talking sense\; Reverb\; MPR 2024 Election Guide
LOCATION:Quarry Hill Nature Center\, Savannah Room\, 701 Silver Creek Road NE\, Rochester\, MN 55906
PRIORITY:3
TRANSP:0
END:VEVENT
END:VCALENDAR
