BEGIN:VCALENDAR
PRODID:-//AT Content Types//AT Event//EN
VERSION:1.0
BEGIN:VEVENT
DTSTART:20240606T221500Z
DTEND:20240606T230000Z
DCREATED:20171017T132953Z
UID:ATEvent-dcadb59d345f4346bbe28745f553e413
SEQUENCE:0
LAST-MODIFIED:20240526T164347Z
SUMMARY:MPR Connects Presents MPR News with Angela Davis
DESCRIPTION:June 6th\, MPR Connects Presents MPR News with Angela Davi
 s. 5:00 pm – 8:00 pm\, The Chateau Theatre.
LOCATION:Chateau Theatre
PRIORITY:3
TRANSP:0
END:VEVENT
END:VCALENDAR
