BEGIN:VCALENDAR
PRODID:-//AT Content Types//AT Event//EN
VERSION:1.0
BEGIN:VEVENT
DTSTART:20220922T150000Z
DTEND:20220922T210000Z
DCREATED:20170323T023418Z
UID:ATEvent-e483c1266fee456cb5a0902fc54f55e8
SEQUENCE:0
LAST-MODIFIED:20220831T125557Z
SUMMARY:LATINX SUMMIT 2022 For Social Entrepreneurs
DESCRIPTION:Open to all college students and recent graduates in\nGrea
 ter Minnesota that are interested in learning about\nsocial entreprene
 urship in the Latinx community!
PRIORITY:3
TRANSP:0
END:VEVENT
END:VCALENDAR
