BEGIN:VCALENDAR
PRODID:-//AT Content Types//AT Event//EN
VERSION:1.0
BEGIN:VEVENT
DTSTART:20250603T210000Z
DTEND:20250603T220000Z
DCREATED:20170716T174907Z
UID:ATEvent-f44b7c9e05724a7c9cdced2312fa1848
SEQUENCE:0
LAST-MODIFIED:20250527T150411Z
SUMMARY:In the City for Good Steering Committee
LOCATION:Novios Cafe\, 120 Elton Hills Drive NW
PRIORITY:3
TRANSP:0
END:VEVENT
END:VCALENDAR
