BEGIN:VCALENDAR
PRODID:-//AT Content Types//AT Event//EN
VERSION:1.0
BEGIN:VEVENT
DTSTART:20240222T193000Z
DTEND:20240222T223000Z
DCREATED:20171109T171338Z
UID:ATEvent-ba55cb59acdb48ff9ca57cd6968bd5c3
SEQUENCE:0
LAST-MODIFIED:20240205T152748Z
SUMMARY:ISAIAH HOUSING LOBBY DAY
DESCRIPTION:Affordable Healthy Homes Lobby Day\n(Housing\, Climate)
PRIORITY:3
TRANSP:0
END:VEVENT
END:VCALENDAR
