BEGIN:VCALENDAR
PRODID:-//AT Content Types//AT Event//EN
VERSION:2.0
METHOD:PUBLISH
BEGIN:VEVENT
DTSTAMP:20260421T122227Z
CREATED:20181206T145138Z
UID:ATEvent-90f18c2c92d14d94a5a3af5966966f4c
LAST-MODIFIED:20250425T145555Z
SUMMARY:ICAM - Happy Ugadi
DTSTART:20250503T213000Z
DTEND:20250503T233000Z
DESCRIPTION:TARMN in Partnership with ICAM invites you all to Ugadi Ce
 lebration 2025
LOCATION:Kellog Middle School
CATEGORIES:commerce
CLASS:PUBLIC
END:VEVENT
END:VCALENDAR
