BEGIN:VCALENDAR
PRODID:-//AT Content Types//AT Event//EN
VERSION:1.0
BEGIN:VEVENT
DTSTART:20260409T130000Z
DTEND:20260410T213000Z
DCREATED:20260319T153948Z
UID:ATEvent-2ce5fa99e2554bb49f5471b155e0aeaa
SEQUENCE:0
LAST-MODIFIED:20260414T153551Z
SUMMARY:Lifestyle Medicine Community of Wellness Symposium & Gala 2026
DESCRIPTION:Discover the root causes of preventable and reversible chr
 onic diseases\n• Learn practical strategies for lifelong health and 
 well-being\n• Engage in hands-on activities like "Walk With A Doc," 
 meditation\, and stretching\nsessions\n• Enjoy plant-based meals fea
 turing recipes from expert presenters\n• Expand your healthy network
 
LOCATION:Mayo Civic Center\, 30 Civic Center Drive SE\, Rochester\, MN 55904
PRIORITY:3
TRANSP:0
END:VEVENT
END:VCALENDAR
