BEGIN:VCALENDAR
PRODID:-//AT Content Types//AT Event//EN
VERSION:1.0
BEGIN:VEVENT
DTSTART:20240203T184500Z
DTEND:20240203T204500Z
DCREATED:20170314T194614Z
UID:ATEvent-8c9d7ff33e0042399ff9a1f05f372050
SEQUENCE:0
LAST-MODIFIED:20240128T163020Z
SUMMARY:GATEway Workshop 2024
DESCRIPTION:This year\, GATEway is conducting free workshops to teach 
 elementary aged students how to do a science fair project
LOCATION:Century High School Cafeteria (use flagpole entrance\, Door #1)
PRIORITY:3
TRANSP:0
END:VEVENT
END:VCALENDAR
