BEGIN:VCALENDAR
PRODID:-//AT Content Types//AT Event//EN
VERSION:2.0
METHOD:PUBLISH
BEGIN:VEVENT
DTSTAMP:20260421T084649Z
CREATED:20170111T172402Z
UID:ATEvent-b0bca8133ebd41e28dd63fa7a5cd9ad1
LAST-MODIFIED:20250715T214414Z
SUMMARY:Healing in Community: From Grieve to Grounding
DTSTART:20250716T223000Z
DTEND:20250717T010000Z
DESCRIPTION:Come join us TOMORROW\, Wednesday\, July 16 at Open Book f
 rom 5:30PM–8:00PM for a\ngathering created with care\, where we can 
 come together to hold space for grief\, reflection,\nand healing in co
 mmunity.
LOCATION:Open Book – Performance Hall\, 1011 Washington Avenue S.\, Minneapolis\, MN 55415
CATEGORIES:Diversity, Entrepreneurship, leadership, Asian, education
URL:https://caalmn.org/?emci=939b5653-9661-f011-8dc9-6045bdfe8e9c&emdi=1885be15-b361-f011-8dc9-6045bdfe8e9c&ceid=8871292
CLASS:PUBLIC
END:VEVENT
END:VCALENDAR
