BEGIN:VCALENDAR
PRODID:-//AT Content Types//AT Event//EN
VERSION:2.0
METHOD:PUBLISH
BEGIN:VEVENT
DTSTAMP:20260419T234953Z
CREATED:20170902T142440Z
UID:ATEvent-d5a2533921a4485dadd4f704871d2ce3
LAST-MODIFIED:20251027T142926Z
SUMMARY:Four Types of Intellectual Property and the Benefits of Federal Protection
DTSTART:20251014T190000Z
DTEND:20251014T200000Z
DESCRIPTION:Marilyn Nash will give a presentation regarding the four t
 ypes of\nintellectual property and the benefits of federal protection.
  She will\nalso have resources available.
LOCATION:Virtual
CATEGORIES:Entrepreneurship
CLASS:PUBLIC
END:VEVENT
END:VCALENDAR
