BEGIN:VCALENDAR
PRODID:-//AT Content Types//AT Event//EN
VERSION:2.0
METHOD:PUBLISH
BEGIN:VEVENT
DTSTAMP:20260421T072248Z
CREATED:20180409T151950Z
UID:ATEvent-f9f90f78bd9948bea3a5c4158bb39755
LAST-MODIFIED:20240919T174057Z
SUMMARY:(Spanish) Financial Literacy
DTSTART:20240921T150000Z
DTEND:20240921T170000Z
DESCRIPTION:Join SBA’s Minnesota District Office to discuss strategi
 es for strong financial management. \n\nLearn how to utilize your fina
 ncial statements to become better-positioned and understand the import
 ance of financial literacy to the success of your business. Topics inc
 lude: Bookkeeping\, Financial Statements\, Cash Flow\, Business Financ
 ing\, & Access to Capital.
LOCATION:221 First Ave. SW\, Suite 600 6th Floor of the MNBio Business Center\, Minnesota - Rochester MN 55902-3295
CATEGORIES:diversity, Entrepreneurship
URL:https://mnsbdc.ecenterdirect.com/events/11313
CLASS:PUBLIC
END:VEVENT
END:VCALENDAR
