BEGIN:VCALENDAR
PRODID:-//AT Content Types//AT Event//EN
VERSION:1.0
BEGIN:VEVENT
DTSTART:20250819T220000Z
DTEND:20250819T230000Z
DCREATED:20180618T131634Z
UID:ATEvent-70ec4841993a4abbb3b0a7f28962aeb4
SEQUENCE:0
LAST-MODIFIED:20250814T012211Z
SUMMARY:Nonprofit Big Brothers Big Sisters Open House
LOCATION:423 Third Ave. SE\, Suite 200\, Rochester\, MN
PRIORITY:3
TRANSP:0
END:VEVENT
END:VCALENDAR
