BEGIN:VCALENDAR
PRODID:-//AT Content Types//AT Event//EN
VERSION:2.0
METHOD:PUBLISH
BEGIN:VEVENT
DTSTAMP:20260419T135307Z
CREATED:20180815T025420Z
UID:ATEvent-18a2fa3775a84e259eb7e4090311c848
LAST-MODIFIED:20250219T150903Z
SUMMARY:UMR Black Student Union: Ebony Night
DTSTART:20250215T233000Z
DTEND:20250216T010000Z
DESCRIPTION:Harlem Nights Roaring 20s
LOCATION:Chateau Theatre
CATEGORIES:diversity, Education, NAACP, UMR
URL:https://www.facebook.com/photo/?fbid=10162324269381011&set=a.429262661010
CLASS:PUBLIC
END:VEVENT
END:VCALENDAR
