BEGIN:VCALENDAR
PRODID:-//AT Content Types//AT Event//EN
VERSION:2.0
METHOD:PUBLISH
BEGIN:VEVENT
DTSTAMP:20260420T000008Z
CREATED:20190808T153828Z
UID:ATEvent-904050ff5ad2445494ba49c603944c40
LAST-MODIFIED:20260113T154025Z
SUMMARY:Dreaming Otherwise
DTSTART:20260117T200000Z
DTEND:20260117T210000Z
DESCRIPTION:Join us for a free\, community-centered workshop rooted in
  writer Nicole “Cole” Nfonoyim-Hara’s own creative process and h
 er current work on a speculative fiction novel reimagining ancestral p
 asts and legacies.
LOCATION:Griot Arts\, 115 N Broadway Ave\, Rochester\, MN 55906\, USA
CATEGORIES:griot
CLASS:PUBLIC
END:VEVENT
END:VCALENDAR
