BEGIN:VCALENDAR
PRODID:-//AT Content Types//AT Event//EN
VERSION:2.0
METHOD:PUBLISH
BEGIN:VEVENT
DTSTAMP:20260423T002914Z
CREATED:20170817T141736Z
UID:ATEvent-625f570293a5441aa41f9746c6476c20
LAST-MODIFIED:20240130T184951Z
SUMMARY:DEED and Other Small Business Resources for a Free Small Business Event
DTSTART:20240215T220000Z
DTEND:20240216T010000Z
DESCRIPTION:In Celebration of Black History Month. \nBuilding your Bus
 iness from the Ground Up\nThursday\, February 15\, 2024\n4 – 7 pm - 
 Exhibitor open house featuring lenders\, business
LOCATION:Brookdale Library 6125 Shingle Creek Pkwy Brooklyn Center\, MN
CATEGORIES:education, community engagement, Entrepreneurship
CLASS:PUBLIC
END:VEVENT
END:VCALENDAR
