BEGIN:VCALENDAR
PRODID:-//AT Content Types//AT Event//EN
VERSION:2.0
METHOD:PUBLISH
BEGIN:VEVENT
DTSTAMP:20260424T153843Z
CREATED:20210511T003746Z
UID:ATEvent-4279e8c3b8f24965947c834817ec5ab3
LAST-MODIFIED:20210511T004811Z
SUMMARY:Free Training! Hightway Heavy Construction Careers
DTSTART:20210601T120000Z
DTEND:20210625T203000Z
LOCATION:RCTC Heintz Center
CATEGORIES:workforce, Diversity, Diversity Council, cmrc
CLASS:PUBLIC
END:VEVENT
END:VCALENDAR
