BEGIN:VCALENDAR
PRODID:-//AT Content Types//AT Event//EN
VERSION:2.0
METHOD:PUBLISH
BEGIN:VEVENT
DTSTAMP:20260420T210702Z
CREATED:20260420T173348Z
UID:ATEvent-f5623d10f6374fde872b15cd480483a2
LAST-MODIFIED:20260420T173545Z
SUMMARY:Southeast Minnesota  Community Mental Health and  Wellness Conference
DTSTART:20260507T133000Z
DTEND:20260507T210000Z
DESCRIPTION:The annual Southeastern Minnesota Conference on Adult Ment
 al Health and Wellbeing is designed\nprimarily for community members t
 o learn\, connect with local resources\, and support their overall\nme
 ntal wellness\, with providers warmly welcomed to attend and share the
  event with those they serve.\nThis year’s theme\, Breaking Silence\
 , Building Strength\, emphasizes a collective effort to raise\n\naware
 ness\, provide education\, and reduce mental health stigma.
LOCATION:International Event Center 7333 Airport View Dr SW Rochester\, MN 55902
CATEGORIES:mental health, Health
URL:https://www.eventbrite.com/e/2026-se-minnesota-community-mental-health-and-wellness-conference-tickets-1984136157659?aff=oddtdtcreator&keep_tld=true
CLASS:PUBLIC
END:VEVENT
END:VCALENDAR
