BEGIN:VCALENDAR
PRODID:-//AT Content Types//AT Event//EN
VERSION:2.0
METHOD:PUBLISH
BEGIN:VEVENT
DTSTAMP:20260421T190358Z
CREATED:20200806T183443Z
UID:ATEvent-bd9e6aacf17d49db9397f6faf3acddef
LAST-MODIFIED:20250323T154653Z
SUMMARY:Collider Cup & Expo 2025
DTSTART:20250325T220000Z
DTEND:20250326T003000Z
DESCRIPTION:The Collider Cup is a business pitch competition\, celebra
 ting the graduation of our latest Co-Starters at Collider cohort.
LOCATION:221 1st Avenue Southwest #ste 610 Rochester\, MN 55902
CATEGORIES:commerce, diversity, workforce, Entrepreneurship, collider
CLASS:PUBLIC
END:VEVENT
END:VCALENDAR
