BEGIN:VCALENDAR
PRODID:-//AT Content Types//AT Event//EN
VERSION:2.0
METHOD:PUBLISH
BEGIN:VEVENT
DTSTAMP:20260423T145725Z
CREATED:20231107T121315Z
UID:ATEvent-c8bacc899d6e4c80b9bcf4154242f9a5
LAST-MODIFIED:20240731T143852Z
SUMMARY:December 2023 Bi-Monthly Community Co-Design Meeting (By Invitation)
DTSTART:20231202T040000Z
DTEND:20231202T050000Z
DESCRIPTION:We will be 1) offering updates on co-design projects and t
 raining\, 2) sharing guidance and tools for co-design project preparat
 ion (what questions to ask\, how much will it cost\, how long will it 
 take\, etc)\, and 3) discuss future co-design opportunities\, barriers
 \, and ways we might be able to support them/you.
LOCATION:
CATEGORIES:DMC, diversity, openbeam, key, co-design
CONTACT:Wafa Elkhalifa\, wafaelkhalifa@dmceda.org
CLASS:PUBLIC
END:VEVENT
END:VCALENDAR
