BEGIN:VCALENDAR
PRODID:-//AT Content Types//AT Event//EN
VERSION:2.0
METHOD:PUBLISH
BEGIN:VEVENT
DTSTAMP:20260421T102155Z
CREATED:20230519T135856Z
UID:ATEvent-9c879f1dc0f14e04bf0f93708880ed35
LAST-MODIFIED:20240731T144723Z
SUMMARY:May Bi-Monthly Community Co-Design Meeting (By Invitation)
DTSTART:20230520T030000Z
DTEND:20230520T040000Z
DESCRIPTION:Welcome to our second Co-Design Meeting. In this meeting\,
  we will 1) offer updates on trainings,\nincluding the recently conclu
 ded first cohort of co-design facilitators\, 2) share up and coming co
 -\ndesign trainings and events\, 3) hear from co-design facilitator gr
 aduates\, and 4) review and\ndiscuss a recently completed co-design pr
 oject.
LOCATION:City Hall Atrium
CATEGORIES:diversity, DMC, co-design, openbeam
CLASS:PUBLIC
END:VEVENT
END:VCALENDAR
