BEGIN:VCALENDAR
PRODID:-//AT Content Types//AT Event//EN
VERSION:2.0
METHOD:PUBLISH
BEGIN:VEVENT
DTSTAMP:20260421T190455Z
CREATED:20230315T222859Z
UID:ATEvent-f4fe2574d27e4eb482ddddda7e1ef6e0
LAST-MODIFIED:20240731T144927Z
SUMMARY:Community Co-Design Inaugural Meeting
DTSTART:20230317T150000Z
DTEND:20230317T160000Z
DESCRIPTION:1)\nshare updates and progress regarding co-design trainin
 gs\, efforts\, and expansion\, 2) continue\nbuilding a shared language
  and understanding of equitable co-design\, 3) promote the meaningful\
 n\nand appropriate expansion of co-design around the region and beyond
 \, and 4) review specific co-\ndesign efforts and lessons learned.
LOCATION:Virtual
CATEGORIES:DMC, co-design, openbeam
CONTACT:Wafa Elkhalifa\, wafaelkhalifa@dmceda.org
CLASS:PUBLIC
END:VEVENT
END:VCALENDAR
