BEGIN:VCALENDAR
PRODID:-//AT Content Types//AT Event//EN
VERSION:2.0
METHOD:PUBLISH
BEGIN:VEVENT
DTSTAMP:20260421T084727Z
CREATED:20170828T160403Z
UID:ATEvent-7e0b39c75c8441e685dc7365ed8368bd
LAST-MODIFIED:20240731T145228Z
SUMMARY:America City for Health Meeting
DTSTART:20221118T160000Z
DTEND:20221118T170000Z
DESCRIPTION:Progress on the co-design training and discuss\nthe 2023 p
 lan for co-design facilitator and leadership training cohorts\, as wel
 l as look for feedback and\ndirection for recruitment. Share progress 
 and timeline for the Bloomberg Mayors Challenge\nPrize work.
LOCATION:Zoom
CATEGORIES:co-design, DMC, Health, openbeam
CLASS:PUBLIC
END:VEVENT
END:VCALENDAR
