BEGIN:VCALENDAR
PRODID:-//AT Content Types//AT Event//EN
VERSION:1.0
BEGIN:VEVENT
DTSTART:20260311T213000Z
DTEND:20260311T233000Z
DCREATED:20190920T151826Z
UID:ATEvent-e4d8a960496f408aa233be62e212ac5d
SEQUENCE:0
LAST-MODIFIED:20260308T015851Z
SUMMARY:City of Rochester & RCTC Community Engagement
DESCRIPTION:City of Rochester and RCTC Engage Community as Discussions
  Continue on the Rochester \nRegional Sports Center
LOCATION:Sports Center (851 30 Ave SE)
PRIORITY:3
TRANSP:0
END:VEVENT
END:VCALENDAR
