BEGIN:VCALENDAR
PRODID:-//AT Content Types//AT Event//EN
VERSION:2.0
METHOD:PUBLISH
BEGIN:VEVENT
DTSTAMP:20260421T190157Z
CREATED:20180906T031227Z
UID:ATEvent-a95a51bcedc947f9a47bfe0010b4e46d
LAST-MODIFIED:20250621T150218Z
SUMMARY:Certification Workshops
DTSTART:20250621T180000Z
DTEND:20250621T210000Z
DESCRIPTION:Destination Medical Center\, City of Rochester\, Equity in
  the Built Environment\nProgram\, and the State of MN Appex Accelerato
 r are partnering to host a series of\nFree â€śCertification Workshopsâ
 €ť to help Disadvantaged Business Enterprises (DBEs)\nand Targeted Gro
 up/Economically Disadvantaged/Veteran-Owned (TG/ED/VO)\ncompanies appl
 y for certification.
LOCATION:John Marshall High School
CATEGORIES:city, DMC, workforce, Entrepreneurship
CONTACT:wafaelkhalifa@dmceda.org
CLASS:PUBLIC
END:VEVENT
END:VCALENDAR
