BEGIN:VCALENDAR
PRODID:-//AT Content Types//AT Event//EN
VERSION:2.0
METHOD:PUBLISH
BEGIN:VEVENT
DTSTAMP:20260420T014734Z
CREATED:20180919T224002Z
UID:ATEvent-725c6d2e1afc410491e35728d5d9aa48
LAST-MODIFIED:20250801T220226Z
SUMMARY:Cascade Lake Park: Celebrate New Public Art Installations with Artist Cassandra Buck
DTSTART:20250907T180000Z
DTEND:20250907T220000Z
DESCRIPTION:– All are invited to attend a series of special events c
 elebrating the completion of public art installations by MNPAiR (Minne
 sota Parks Artists in Residence) artist Cassandra Buck. Installed at t
 hree local parks — Oxbow Park & Zollman Zoo\, Quarry Hill Nature Cen
 ter\, and Cascade Lake Park — these vibrant works highlight nature\,
  community\, and connection to place. Each celebration will include a 
 short artist talk\, a hands-on public art activity for all
LOCATION:Address: 88 23rd Avenue SW in Rochester
CATEGORIES:Culture, art
CLASS:PUBLIC
END:VEVENT
END:VCALENDAR
