BEGIN:VCALENDAR
PRODID:-//AT Content Types//AT Event//EN
VERSION:1.0
BEGIN:VEVENT
DTSTART:20230208T210000Z
DTEND:20230208T223000Z
DCREATED:20160603T043847Z
UID:ATEvent-aebb39fca988430c9016070a2b3508d7
SEQUENCE:0
LAST-MODIFIED:20230123T191536Z
SUMMARY:Capacity Builders Listening Session (By Invitation)
DESCRIPTION:The City of Rochester and Destination Medical Center want 
 to increase project participation of Small\, Minority\, Women and Disa
 dvantaged businesses on our projects.
LOCATION:RAEDI\, 221 First Ave SW Suite 600\, Rochester\, MN 55902
PRIORITY:3
TRANSP:0
END:VEVENT
END:VCALENDAR
