BEGIN:VCALENDAR
PRODID:-//AT Content Types//AT Event//EN
VERSION:2.0
METHOD:PUBLISH
BEGIN:VEVENT
DTSTAMP:20260421T115740Z
CREATED:20171204T152050Z
UID:ATEvent-617ac7a099b249a5a3f782acccb4e2cb
LAST-MODIFIED:20250503T205157Z
SUMMARY:Cambodian Annual Picnic
DTSTART:20250524T170000Z
DTEND:20250525T020000Z
LOCATION:Foster Arend
CATEGORIES:Culture
CLASS:PUBLIC
END:VEVENT
END:VCALENDAR
