BEGIN:VCALENDAR
PRODID:-//AT Content Types//AT Event//EN
VERSION:2.0
METHOD:PUBLISH
BEGIN:VEVENT
DTSTAMP:20260422T161311Z
CREATED:20180916T135306Z
UID:ATEvent-a2718eafcd1f45d48391803e10b04710
LAST-MODIFIED:20260226T153226Z
SUMMARY:Black Excellence Expo
DTSTART:20260228T180000Z
DTEND:20260228T220000Z
DESCRIPTION:For the Rochester Branch of the NAACP\, achieving economic
  stability is a strategic priority. Initiatives like the Black Excelle
 nce Expo directly support this goal by uplifting local entrepreneurs\,
  expanding opportunity\, and strengthening our regional economy.
LOCATION:125 Live
CATEGORIES:diversity, education, NAACP, Entrepreneurship
CLASS:PUBLIC
END:VEVENT
END:VCALENDAR
