BEGIN:VCALENDAR
PRODID:-//AT Content Types//AT Event//EN
VERSION:2.0
METHOD:PUBLISH
BEGIN:VEVENT
DTSTAMP:20260423T002559Z
CREATED:20211216T153219Z
UID:ATEvent-8caa00d47b2242828ac567ccaee81c3b
LAST-MODIFIED:20241024T164926Z
SUMMARY:Big Rally for Strong Schools
DTSTART:20241027T180000Z
DTEND:20241027T190000Z
DESCRIPTION:Join families\, educators\, and community members as we ra
 lly to #VoteYesForRPS!
LOCATION:Peace Plaza
CATEGORIES:rps, education
URL:https://referendum.rochesterschools.org/
CLASS:PUBLIC
END:VEVENT
END:VCALENDAR
