BEGIN:VCALENDAR
PRODID:-//AT Content Types//AT Event//EN
VERSION:2.0
METHOD:PUBLISH
BEGIN:VEVENT
DTSTAMP:20260425T185241Z
CREATED:20171111T024323Z
UID:ATEvent-3483ec8b2c2c43ee8508f27acfac3e6d
LAST-MODIFIED:20240205T153410Z
SUMMARY:A Roof Over Our Heads - Who Is Left Out In The Cold?
DTSTART:20240222T010000Z
DTEND:20240222T023000Z
DESCRIPTION:People experiencing homelessness is a harsh reality across
  the country,\nincluding for many in the Rochester area. How are our c
 ommunity and local\n\ngovernments responding to the need for temporary
  shelter\, no-income or low-\nincome housing\, and affordable homes?
CATEGORIES:housing, homelessness
CLASS:PUBLIC
END:VEVENT
END:VCALENDAR
