BEGIN:VCALENDAR
PRODID:-//AT Content Types//AT Event//EN
VERSION:1.0
BEGIN:VEVENT
DTSTART:20240319T190000Z
DTEND:20240319T203000Z
DCREATED:20170317T171153Z
UID:ATEvent-483acee8354d45b992849cd30165fe5c
SEQUENCE:0
LAST-MODIFIED:20240324T160220Z
SUMMARY:City and County Joint Meeting: A Coordinated Approach to Homelessness
DESCRIPTION:Receiving a presentation regarding several key areas of th
 e Olmsted County/City of\nRochester Homelessness System including role
 s\, responsibilities and project updates\nfrom each organization\; the
  development of a community response system\; creating\ncommunity visi
 on\; and the development of a nationally recognized community solution
 s\ntool known as Built for Zero.
LOCATION:Mayo Civic Center\, 30 Civic Center Dr SE Suite 103
PRIORITY:3
TRANSP:0
END:VEVENT
END:VCALENDAR
