BEGIN:VCALENDAR
PRODID:-//AT Content Types//AT Event//EN
VERSION:2.0
METHOD:PUBLISH
BEGIN:VEVENT
DTSTAMP:20260421T180446Z
CREATED:20140118T175754Z
UID:ATEvent-bcd0a480434b4fa89c61c31983bcc062
LAST-MODIFIED:20260421T145628Z
SUMMARY:2026 Rochester PRIDE
DTSTART:20260516T170000Z
DTEND:20260516T220000Z
DESCRIPTION:Join us for five fabulous hours of live entertainment\, fa
 mily-friendly fun\, and community celebration in the heart of our city
 .
LOCATION:Soldiers Field Park\, Rochester\, MN
CATEGORIES:community engagement, Diversity, LGBTQ+
URL:https://www.rochmnpride.org/
CLASS:PUBLIC
END:VEVENT
END:VCALENDAR
