BEGIN:VCALENDAR
PRODID:-//AT Content Types//AT Event//EN
VERSION:1.0
BEGIN:VEVENT
DTSTART:20240404T230000Z
DTEND:20240405T003000Z
DCREATED:20151202T192647Z
UID:ATEvent-8a18280984de407496890c3cb308aa7a
SEQUENCE:0
LAST-MODIFIED:20240403T152130Z
SUMMARY:2025 Minnesota Joint Disparity Study Public Forum 2
LOCATION:Virtual
PRIORITY:3
TRANSP:0
END:VEVENT
END:VCALENDAR
