BEGIN:VCALENDAR
PRODID:-//AT Content Types//AT Event//EN
VERSION:1.0
BEGIN:VEVENT
DTSTART:20240402T173000Z
DTEND:20240402T183000Z
DCREATED:20160422T163917Z
UID:ATEvent-9bebb2d32bf147fab33aeea9f4646d61
SEQUENCE:0
LAST-MODIFIED:20240328T132717Z
SUMMARY:2025 Minnesota Joint Disparity Public Forum 1
LOCATION:Virtual
PRIORITY:3
TRANSP:0
END:VEVENT
END:VCALENDAR
