BEGIN:VCALENDAR
PRODID:-//AT Content Types//AT Event//EN
VERSION:2.0
METHOD:PUBLISH
BEGIN:VEVENT
DTSTAMP:20260422T232905Z
CREATED:20200219T014543Z
UID:ATEvent-8a6cba5bc0e044128dbd92d9ffe6db48
LAST-MODIFIED:20260118T162520Z
SUMMARY:2025 Community of Wellness: Symposium & Gala
DTSTART:20250418T010000Z
DTEND:20250418T220000Z
DESCRIPTION:Topics include: Transformational Healing with Sound\; Livi
 ng Well\, Thinking Well: How Lifestyle Medicine Can Preserve Your Cogn
 itive Health\; The Power of Sunlight to Improve Health and Well-being\
 ; Move to Thrive: How Exercise Transforms Metabolic Health and Overall
  Wellness\; Fasting Mimicking Diet (FMD) for Type II Diabetes Reversal
  and Longevity\; Epiphanies From Losing Nearly 300 Pounds
LOCATION:Mayo Civic Center / Rochester\, MN
CATEGORIES:lotus, Education, health, community health
URL:https://www.lotushealthfoundation.org/2025-symposium-and-gala
CLASS:PUBLIC
END:VEVENT
END:VCALENDAR
