BEGIN:VCALENDAR
PRODID:-//AT Content Types//AT Event//EN
VERSION:2.0
METHOD:PUBLISH
BEGIN:VEVENT
DTSTAMP:20260420T152720Z
CREATED:20240507T140611Z
UID:ATEvent-0c43e544690b4423b6d77c37e0083ccb
LAST-MODIFIED:20240516T180602Z
SUMMARY:2024 Next Level Conference: TOGETHER\, FASTER AND STRONGER
DTSTART:20240613T130000Z
DTEND:20240614T193000Z
DESCRIPTION:Welcome to REIMAGINE\, the annual gathering of professiona
 ls\, experts\, business owners\, and thought leaders in the business s
 ector. Our conference is a unique platform where people come together 
 to exchange ideas\, build networks\, and foster lasting partnerships. 
 This year’s inaugural event promises to be bigger and better than ot
 her events you’ve been to thus far\, with an impressive lineup of ke
 ynote speakers\, panel discussions\, workshops\, and ending with an ex
 po.
CATEGORIES:Education, Diversity, Entrepreneurship
URL:https://www.nextlevelconf.com/
CLASS:PUBLIC
END:VEVENT
END:VCALENDAR
