BEGIN:VCALENDAR
PRODID:-//AT Content Types//AT Event//EN
VERSION:2.0
METHOD:PUBLISH
BEGIN:VEVENT
DTSTAMP:20260421T190445Z
CREATED:20200303T025221Z
UID:ATEvent-069072d86fc34285822596bdc524dcd6
LAST-MODIFIED:20200303T040400Z
SUMMARY:2020 Energy Benchmarking Kick-Off
DTSTART:20200304T213000Z
DTEND:20200304T230000Z
LOCATION:Rochester City Hall Atrium 201 4th Street Southeast  Rochester\, MN 55904
CATEGORIES:sustainability
URL:https://www.eventbrite.com/e/2020-energy-benchmarking-kick-off-tickets-94673995469
CLASS:PUBLIC
END:VEVENT
END:VCALENDAR
