BEGIN:VCALENDAR
PRODID:-//AT Content Types//AT Event//EN
VERSION:2.0
METHOD:PUBLISH
BEGIN:VEVENT
DTSTAMP:20260420T182121Z
CREATED:20220111T164538Z
UID:ATEvent-1c5abc7fd087414597b254ec116598d4
LAST-MODIFIED:20220111T164620Z
SUMMARY:1Q 2022 Commitment to Racial Justice Quarterly Meeting
DTSTART:20220111T180000Z
DTEND:20220111T193000Z
CATEGORIES:Diversity, npc
CLASS:PUBLIC
END:VEVENT
END:VCALENDAR
