BEGIN:VCALENDAR
PRODID:-//AT Content Types//AT Event//EN
VERSION:2.0
METHOD:PUBLISH
BEGIN:VEVENT
DTSTAMP:20260421T194103Z
CREATED:20230807T145545Z
UID:ATEvent-dbb2942e460d47059f6107e19d4cbe05
LAST-MODIFIED:20250423T170831Z
SUMMARY:11th Annual EarthFest Expo
DTSTART:20250503T143000Z
DTEND:20250503T193000Z
DESCRIPTION:Earth Day\, Every Day\nInspiring the community to make con
 scious decisions that help our environment. \nCollectively we can make
  a difference and make Rochester a more sustainable community.
LOCATION:Saint Mary's University - Rochester Campus
CATEGORIES:sustainability
URL:https://www.earthfestrochestermn.org/
CLASS:PUBLIC
END:VEVENT
END:VCALENDAR
