BEGIN:VCALENDAR
PRODID:-//AT Content Types//AT Event//EN
VERSION:1.0
BEGIN:VEVENT
DTSTART:20221004T150000Z
DTEND:20221004T210000Z
DCREATED:20220919T173845Z
UID:ATEvent-3131b04efcce4808b95fd2c776a85412
SEQUENCE:0
LAST-MODIFIED:20220929T173406Z
SUMMARY:Cradle to Career (C2C) Annual Education Summit
LOCATION:Saint Mary's University - Rochester Campus  2900 19th Street Northwest  Rochester\, MN 55901
PRIORITY:3
TRANSP:0
END:VEVENT
END:VCALENDAR
