BEGIN:VCALENDAR
PRODID:-//AT Content Types//AT Event//EN
VERSION:1.0
BEGIN:VEVENT
DTSTART:20191210T213000Z
DTEND:20191210T233000Z
DCREATED:20191121T193749Z
UID:ATEvent-8ba1a5cf6e8f4deea5638f64e9096a9f
SEQUENCE:0
LAST-MODIFIED:20191124T171658Z
SUMMARY:Winona State University: Rochester Purple Extravaganza
LOCATION:Cambria Gallery 400 S Broadway\, Rochester\, Minnesota 55902
PRIORITY:3
TRANSP:0
END:VEVENT
END:VCALENDAR
