BEGIN:VCALENDAR
PRODID:-//AT Content Types//AT Event//EN
VERSION:2.0
METHOD:PUBLISH
BEGIN:VEVENT
DTSTAMP:20260421T083931Z
CREATED:20230114T004818Z
UID:ATEvent-94dac8fbfd88416f81995da1c747bfa3
LAST-MODIFIED:20230126T154119Z
SUMMARY:Third Judicial District: Juror Project Presentation
DTSTART:20230127T000000Z
DTEND:20230127T010000Z
DESCRIPTION:The motivation for hosting these presentations has been th
 e continued lack of diversity of\njuries in southeast Minnesota\, as s
 hown by this recent report by the state-level Committee for\nEquity an
 d Justice.
LOCATION:Zoom
CLASS:PUBLIC
END:VEVENT
END:VCALENDAR
