BEGIN:VCALENDAR
PRODID:-//AT Content Types//AT Event//EN
VERSION:1.0
BEGIN:VEVENT
DTSTART:20190917T000000Z
DTEND:20190917T010000Z
DCREATED:20190731T185709Z
UID:ATEvent-4b6a56ee43dd4afcac363c28bc4bf6c8
SEQUENCE:0
LAST-MODIFIED:20190912T005811Z
SUMMARY:MINNEAPOLIS ENCAMPMENT COMMUNITY RESPONSE
LOCATION:Rochester Area Foundation\, 12 Elton Hills Dr
PRIORITY:3
TRANSP:0
END:VEVENT
END:VCALENDAR
