BEGIN:VCALENDAR
PRODID:-//AT Content Types//AT Event//EN
VERSION:2.0
METHOD:PUBLISH
BEGIN:VEVENT
DTSTAMP:20260420T022706Z
CREATED:20201018T155623Z
UID:ATEvent-14514b6f01d44f249197c9646efdcca1
LAST-MODIFIED:20201023T131647Z
SUMMARY:Special Diversity Council Human Library Event with HGA
DTSTART:20201026T210000Z
DTEND:20201026T223000Z
CATEGORIES:diversity, diversity council, Human Library
CLASS:PUBLIC
END:VEVENT
END:VCALENDAR
