BEGIN:VCALENDAR
PRODID:-//AT Content Types//AT Event//EN
VERSION:1.0
BEGIN:VEVENT
DTSTART:20210918T220000Z
DTEND:20210919T020000Z
DCREATED:20210815T152112Z
UID:ATEvent-0a427f0209434a9c8a503da7844e45f8
SEQUENCE:0
LAST-MODIFIED:20220119T155012Z
SUMMARY:September 2021 Night Market
DESCRIPTION:NIGHT MARKETS ARE A PART OF DAILY LIFE AND\nENTERTAINMENT 
 ACROSS ASIA\, AND WE’RE BRINGING IT TO ROCHESTER!
LOCATION:MAYO CIVIC CENTER RIVERFRONT PLAZA & ROCHESTER ART CENTER
PRIORITY:3
TRANSP:0
END:VEVENT
END:VCALENDAR
