BEGIN:VCALENDAR
PRODID:-//AT Content Types//AT Event//EN
VERSION:1.0
BEGIN:VEVENT
DTSTART:20191204T000000Z
DTEND:20191204T013000Z
DCREATED:20191203T021701Z
UID:ATEvent-160d3b6626294509a315db1079844cc2
SEQUENCE:0
LAST-MODIFIED:20191203T022607Z
SUMMARY:Rochester Listening Session on Hate Crimes
LOCATION:First Unitarian Church
PRIORITY:3
TRANSP:0
END:VEVENT
END:VCALENDAR
